Package: GenomicRanges Version: 1.58.0 Command: chmod a+r GenomicRanges -R && F:\biocbuild\bbs-3.20-bioc\R\bin\R.exe CMD build --keep-empty-dirs --no-resave-data GenomicRanges StartedAt: 2025-02-03 19:24:54 -0500 (Mon, 03 Feb 2025) EndedAt: 2025-02-03 19:29:58 -0500 (Mon, 03 Feb 2025) EllapsedTime: 303.8 seconds RetCode: 0 Status: OK PackageFile: GenomicRanges_1.58.0.tar.gz PackageFileSize: 1.08 MiB