Package: GenomicRanges Version: 1.58.0 Command: F:\biocbuild\bbs-3.20-bioc\R\bin\R.exe CMD check --no-multiarch --install=check:GenomicRanges.install-out.txt --library=F:\biocbuild\bbs-3.20-bioc\R\library --no-vignettes --timings GenomicRanges_1.58.0.tar.gz StartedAt: 2025-02-04 02:10:56 -0500 (Tue, 04 Feb 2025) EndedAt: 2025-02-04 02:16:05 -0500 (Tue, 04 Feb 2025) EllapsedTime: 308.2 seconds RetCode: 0 Status: OK CheckDir: GenomicRanges.Rcheck Warnings: 0