Package: GenomicRanges Version: 1.58.0 Command: /home/biocbuild/R/R/bin/R CMD build --keep-empty-dirs --no-resave-data GenomicRanges StartedAt: 2025-02-10 23:41:43 -0000 (Mon, 10 Feb 2025) EndedAt: 2025-02-10 23:45:10 -0000 (Mon, 10 Feb 2025) EllapsedTime: 207.1 seconds RetCode: 0 Status: OK PackageFile: GenomicRanges_1.58.0.tar.gz PackageFileSize: 1.302 MiB