Package: GenomicScores Version: 2.18.1 Maintainer: Robert Castelo MaintainerEmail: robert.castelo at upf.edu git_url: https://git.bioconductor.org/packages/GenomicScores git_branch: RELEASE_3_20 git_last_commit: 84988cf git_last_commit_date: 2025-02-01 05:10:14 -0500 (Sat, 01 Feb 2025)