Package: GenomicScores Version: 2.18.1 Command: rm -rf GenomicScores.buildbin-libdir && mkdir GenomicScores.buildbin-libdir && /Users/biocbuild/BBS/utils/build-universal.sh GenomicScores_2.18.1.tar.gz /Library/Frameworks/R.framework/Resources/bin/R GenomicScores.buildbin-libdir StartedAt: 2025-02-05 16:00:57 -0500 (Wed, 05 Feb 2025) EndedAt: 2025-02-05 16:01:35 -0500 (Wed, 05 Feb 2025) EllapsedTime: 38.5 seconds RetCode: 0 Status: OK PackageFile: GenomicScores_2.18.1.tgz PackageFileSize: 2.066 MiB