Package: GenomicScores Version: 2.18.1 Command: /Library/Frameworks/R.framework/Resources/bin/R CMD build --keep-empty-dirs --no-resave-data GenomicScores StartedAt: 2025-02-04 00:14:51 -0500 (Tue, 04 Feb 2025) EndedAt: 2025-02-04 00:17:13 -0500 (Tue, 04 Feb 2025) EllapsedTime: 142.8 seconds RetCode: 0 Status: OK PackageFile: GenomicScores_2.18.1.tar.gz PackageFileSize: 1.642 MiB