Package: GenomicScores Version: 2.18.1 Command: /Library/Frameworks/R.framework/Resources/bin/R CMD INSTALL GenomicScores StartedAt: 2025-02-03 15:41:01 -0500 (Mon, 03 Feb 2025) EndedAt: 2025-02-03 15:41:18 -0500 (Mon, 03 Feb 2025) EllapsedTime: 16.7 seconds RetCode: 0 Status: OK