Package: GenomicScores Version: 2.18.1 Command: rm -rf GenomicScores.buildbin-libdir && mkdir GenomicScores.buildbin-libdir && /Users/biocbuild/BBS/utils/build-universal.sh GenomicScores_2.18.1.tar.gz /Library/Frameworks/R.framework/Resources/bin/R GenomicScores.buildbin-libdir StartedAt: 2025-02-04 13:01:47 -0500 (Tue, 04 Feb 2025) EndedAt: 2025-02-04 13:03:25 -0500 (Tue, 04 Feb 2025) EllapsedTime: 98.5 seconds RetCode: 0 Status: OK PackageFile: GenomicScores_2.18.1.tgz PackageFileSize: 2.072 MiB