Package: GenomicScores Version: 2.18.1 Command: /Library/Frameworks/R.framework/Resources/bin/R CMD build --keep-empty-dirs --no-resave-data GenomicScores StartedAt: 2025-02-03 19:11:53 -0500 (Mon, 03 Feb 2025) EndedAt: 2025-02-03 19:16:11 -0500 (Mon, 03 Feb 2025) EllapsedTime: 258.1 seconds RetCode: 0 Status: OK PackageFile: GenomicScores_2.18.1.tar.gz PackageFileSize: 1.645 MiB