Package: GenomicScores Version: 2.18.1 Command: /home/biocbuild/bbs-3.20-bioc/R/bin/R CMD build --keep-empty-dirs --no-resave-data --md5 GenomicScores StartedAt: 2025-02-03 17:34:03 -0500 (Mon, 03 Feb 2025) EndedAt: 2025-02-03 17:35:59 -0500 (Mon, 03 Feb 2025) EllapsedTime: 116.1 seconds RetCode: 0 Status: OK PackageFile: GenomicScores_2.18.1.tar.gz PackageFileSize: 1.775 MiB