Package: GenomicScores Version: 2.18.1 Command: /home/biocbuild/bbs-3.20-bioc/R/bin/R CMD INSTALL GenomicScores StartedAt: 2025-02-03 15:26:03 -0500 (Mon, 03 Feb 2025) EndedAt: 2025-02-03 15:26:30 -0500 (Mon, 03 Feb 2025) EllapsedTime: 27.5 seconds RetCode: 0 Status: OK