Package: GenomicScores Version: 2.18.1 Command: rm -rf GenomicScores.buildbin-libdir && mkdir GenomicScores.buildbin-libdir && F:\biocbuild\bbs-3.20-bioc\R\bin\R.exe CMD INSTALL --build --library=GenomicScores.buildbin-libdir GenomicScores_2.18.1.tar.gz StartedAt: 2025-02-04 08:35:12 -0500 (Tue, 04 Feb 2025) EndedAt: 2025-02-04 08:36:11 -0500 (Tue, 04 Feb 2025) EllapsedTime: 59.3 seconds RetCode: 0 Status: OK PackageFile: GenomicScores_2.18.1.zip PackageFileSize: 1.809 MiB