Package: GenomicScores Version: 2.18.1 Command: chmod a+r GenomicScores -R && F:\biocbuild\bbs-3.20-bioc\R\bin\R.exe CMD build --keep-empty-dirs --no-resave-data GenomicScores StartedAt: 2025-02-03 19:24:55 -0500 (Mon, 03 Feb 2025) EndedAt: 2025-02-03 19:28:03 -0500 (Mon, 03 Feb 2025) EllapsedTime: 188.4 seconds RetCode: 0 Status: OK PackageFile: GenomicScores_2.18.1.tar.gz PackageFileSize: 1.284 MiB