Package: GenomicScores Version: 2.18.1 Command: F:\biocbuild\bbs-3.20-bioc\R\bin\R.exe CMD check --no-multiarch --install=check:GenomicScores.install-out.txt --library=F:\biocbuild\bbs-3.20-bioc\R\library --no-vignettes --timings GenomicScores_2.18.1.tar.gz StartedAt: 2025-02-04 02:12:22 -0500 (Tue, 04 Feb 2025) EndedAt: 2025-02-04 02:17:22 -0500 (Tue, 04 Feb 2025) EllapsedTime: 299.5 seconds RetCode: 0 Status: OK CheckDir: GenomicScores.Rcheck Warnings: 0