Package: GenomicScores Version: 2.18.1 Command: F:\biocbuild\bbs-3.20-bioc\R\bin\R.exe CMD INSTALL GenomicScores StartedAt: 2025-02-03 16:06:51 -0500 (Mon, 03 Feb 2025) EndedAt: 2025-02-03 16:08:35 -0500 (Mon, 03 Feb 2025) EllapsedTime: 103.9 seconds RetCode: 0 Status: OK