Package: GenomicSuperSignature Version: 1.14.0 Command: /Library/Frameworks/R.framework/Resources/bin/R CMD check --install=check:GenomicSuperSignature.install-out.txt --library=/Library/Frameworks/R.framework/Resources/library --no-vignettes --timings GenomicSuperSignature_1.14.0.tar.gz StartedAt: 2025-02-04 21:04:00 -0500 (Tue, 04 Feb 2025) EndedAt: 2025-02-04 21:09:00 -0500 (Tue, 04 Feb 2025) EllapsedTime: 299.9 seconds RetCode: 0 Status: WARNINGS CheckDir: GenomicSuperSignature.Rcheck Warnings: 2