Package: GenomicSuperSignature Version: 1.14.0 Command: /Library/Frameworks/R.framework/Resources/bin/R CMD check --install=check:GenomicSuperSignature.install-out.txt --library=/Library/Frameworks/R.framework/Resources/library --no-vignettes --timings GenomicSuperSignature_1.14.0.tar.gz StartedAt: 2025-01-31 04:23:52 -0500 (Fri, 31 Jan 2025) EndedAt: 2025-01-31 04:31:56 -0500 (Fri, 31 Jan 2025) EllapsedTime: 484.4 seconds RetCode: 0 Status: WARNINGS CheckDir: GenomicSuperSignature.Rcheck Warnings: 2