Package: GenomicSuperSignature Version: 1.14.0 Command: /Library/Frameworks/R.framework/Resources/bin/R CMD INSTALL GenomicSuperSignature StartedAt: 2025-01-30 16:41:33 -0500 (Thu, 30 Jan 2025) EndedAt: 2025-01-30 16:42:38 -0500 (Thu, 30 Jan 2025) EllapsedTime: 64.3 seconds RetCode: 0 Status: OK