Package: GenomicTuples Version: 1.40.0 Command: /Library/Frameworks/R.framework/Resources/bin/R CMD build --keep-empty-dirs --no-resave-data GenomicTuples StartedAt: 2025-02-04 00:16:44 -0500 (Tue, 04 Feb 2025) EndedAt: 2025-02-04 00:17:17 -0500 (Tue, 04 Feb 2025) EllapsedTime: 32.1 seconds RetCode: 0 Status: OK PackageFile: GenomicTuples_1.40.0.tar.gz PackageFileSize: 303.1 KiB