Package: GenomicTuples Version: 1.40.0 Command: /Library/Frameworks/R.framework/Resources/bin/R CMD build --keep-empty-dirs --no-resave-data GenomicTuples StartedAt: 2025-02-03 19:11:59 -0500 (Mon, 03 Feb 2025) EndedAt: 2025-02-03 19:13:30 -0500 (Mon, 03 Feb 2025) EllapsedTime: 91.3 seconds RetCode: 0 Status: OK PackageFile: GenomicTuples_1.40.0.tar.gz PackageFileSize: 302.8 KiB