Package: GenomicTuples Version: 1.40.0 Command: /Library/Frameworks/R.framework/Resources/bin/R CMD INSTALL GenomicTuples StartedAt: 2025-02-03 15:21:54 -0500 (Mon, 03 Feb 2025) EndedAt: 2025-02-03 15:23:01 -0500 (Mon, 03 Feb 2025) EllapsedTime: 67.2 seconds RetCode: 0 Status: OK