Package: GeomxTools Version: 3.10.0 Command: rm -rf GeomxTools.buildbin-libdir && mkdir GeomxTools.buildbin-libdir && /Users/biocbuild/BBS/utils/build-universal.sh GeomxTools_3.10.0.tar.gz /Library/Frameworks/R.framework/Resources/bin/R GeomxTools.buildbin-libdir StartedAt: 2025-02-05 16:01:51 -0500 (Wed, 05 Feb 2025) EndedAt: 2025-02-05 16:02:30 -0500 (Wed, 05 Feb 2025) EllapsedTime: 38.3 seconds RetCode: 0 Status: OK PackageFile: GeomxTools_3.10.0.tgz PackageFileSize: 15.74 MiB