Package: GeomxTools Version: 3.10.0 Command: /Library/Frameworks/R.framework/Resources/bin/R CMD build --keep-empty-dirs --no-resave-data GeomxTools StartedAt: 2025-02-04 00:18:26 -0500 (Tue, 04 Feb 2025) EndedAt: 2025-02-04 00:25:23 -0500 (Tue, 04 Feb 2025) EllapsedTime: 417.3 seconds RetCode: 0 Status: OK PackageFile: GeomxTools_3.10.0.tar.gz PackageFileSize: 16.99 MiB