Package: GeomxTools Version: 3.10.0 Command: /Library/Frameworks/R.framework/Resources/bin/R CMD check --install=check:GeomxTools.install-out.txt --library=/Library/Frameworks/R.framework/Resources/library --no-vignettes --timings GeomxTools_3.10.0.tar.gz StartedAt: 2025-02-04 21:09:20 -0500 (Tue, 04 Feb 2025) EndedAt: 2025-02-04 21:28:29 -0500 (Tue, 04 Feb 2025) EllapsedTime: 1148.9 seconds RetCode: 1 Status: ERROR CheckDir: GeomxTools.Rcheck Warnings: NA