Package: GeomxTools Version: 3.10.0 Command: /Library/Frameworks/R.framework/Resources/bin/R CMD INSTALL GeomxTools StartedAt: 2025-02-03 16:36:20 -0500 (Mon, 03 Feb 2025) EndedAt: 2025-02-03 16:36:51 -0500 (Mon, 03 Feb 2025) EllapsedTime: 31.1 seconds RetCode: 0 Status: OK