Package: GeomxTools Version: 3.10.0 Command: /home/biocbuild/R/R/bin/R CMD check --install=check:GeomxTools.install-out.txt --library=/home/biocbuild/R/R/site-library --no-vignettes --timings GeomxTools_3.10.0.tar.gz StartedAt: 2024-11-20 08:15:59 -0000 (Wed, 20 Nov 2024) EndedAt: 2024-11-20 08:41:32 -0000 (Wed, 20 Nov 2024) EllapsedTime: 1533.6 seconds RetCode: 0 Status: OK CheckDir: GeomxTools.Rcheck Warnings: 0