Package: GeomxTools Version: 3.10.0 Command: /home/biocbuild/R/R/bin/R CMD INSTALL GeomxTools StartedAt: 2024-11-19 21:01:26 -0000 (Tue, 19 Nov 2024) EndedAt: 2024-11-19 21:02:05 -0000 (Tue, 19 Nov 2024) EllapsedTime: 39.4 seconds RetCode: 0 Status: OK