Package: GeomxTools Version: 3.10.0 Command: /Library/Frameworks/R.framework/Resources/bin/R CMD INSTALL GeomxTools StartedAt: 2025-01-30 15:58:25 -0500 (Thu, 30 Jan 2025) EndedAt: 2025-01-30 15:59:28 -0500 (Thu, 30 Jan 2025) EllapsedTime: 62.9 seconds RetCode: 0 Status: OK