Package: GeomxTools Version: 3.10.0 Command: /home/biocbuild/bbs-3.20-bioc/R/bin/R CMD check --install=check:GeomxTools.install-out.txt --library=/home/biocbuild/bbs-3.20-bioc/R/site-library --timings GeomxTools_3.10.0.tar.gz StartedAt: 2025-02-03 22:46:46 -0500 (Mon, 03 Feb 2025) EndedAt: 2025-02-03 23:10:19 -0500 (Mon, 03 Feb 2025) EllapsedTime: 1412.8 seconds RetCode: 0 Status: OK CheckDir: GeomxTools.Rcheck Warnings: 0