Package: GeomxTools Version: 3.10.0 Command: /home/biocbuild/bbs-3.20-bioc/R/bin/R CMD INSTALL GeomxTools StartedAt: 2025-02-03 15:40:57 -0500 (Mon, 03 Feb 2025) EndedAt: 2025-02-03 15:41:25 -0500 (Mon, 03 Feb 2025) EllapsedTime: 28.3 seconds RetCode: 0 Status: OK