Package: GeomxTools Version: 3.10.0 Command: rm -rf GeomxTools.buildbin-libdir && mkdir GeomxTools.buildbin-libdir && F:\biocbuild\bbs-3.20-bioc\R\bin\R.exe CMD INSTALL --build --library=GeomxTools.buildbin-libdir GeomxTools_3.10.0.tar.gz StartedAt: 2025-01-31 08:44:41 -0500 (Fri, 31 Jan 2025) EndedAt: 2025-01-31 08:46:04 -0500 (Fri, 31 Jan 2025) EllapsedTime: 82.8 seconds RetCode: 0 Status: OK PackageFile: GeomxTools_3.10.0.zip PackageFileSize: 12.68 MiB