Package: GeomxTools Version: 3.10.0 Command: F:\biocbuild\bbs-3.20-bioc\R\bin\R.exe CMD INSTALL GeomxTools StartedAt: 2025-01-30 15:51:59 -0500 (Thu, 30 Jan 2025) EndedAt: 2025-01-30 15:53:47 -0500 (Thu, 30 Jan 2025) EllapsedTime: 108.0 seconds RetCode: 0 Status: OK