Package: GeomxTools Version: 3.10.0 Command: /home/biocbuild/R/R/bin/R CMD build --keep-empty-dirs --no-resave-data GeomxTools StartedAt: 2025-02-03 23:53:35 -0000 (Mon, 03 Feb 2025) EndedAt: 2025-02-04 00:02:06 -0000 (Tue, 04 Feb 2025) EllapsedTime: 510.2 seconds RetCode: 0 Status: OK PackageFile: GeomxTools_3.10.0.tar.gz PackageFileSize: 14.23 MiB