Package: GeomxTools Version: 3.10.0 Command: /home/biocbuild/R/R/bin/R CMD INSTALL GeomxTools StartedAt: 2025-02-03 20:55:12 -0000 (Mon, 03 Feb 2025) EndedAt: 2025-02-03 20:55:46 -0000 (Mon, 03 Feb 2025) EllapsedTime: 34.2 seconds RetCode: 0 Status: OK