Package: GladiaTOX Version: 1.22.0 Command: /home/biocbuild/bbs-3.20-bioc/R/bin/R CMD build --keep-empty-dirs --no-resave-data --md5 GladiaTOX StartedAt: 2025-02-03 17:37:07 -0500 (Mon, 03 Feb 2025) EndedAt: 2025-02-03 17:40:32 -0500 (Mon, 03 Feb 2025) EllapsedTime: 205.2 seconds RetCode: 0 Status: OK PackageFile: GladiaTOX_1.22.0.tar.gz PackageFileSize: 3.969 MiB