Package: GladiaTOX Version: 1.22.0 Command: /home/biocbuild/bbs-3.20-bioc/R/bin/R CMD check --install=check:GladiaTOX.install-out.txt --library=/home/biocbuild/bbs-3.20-bioc/R/site-library --timings GladiaTOX_1.22.0.tar.gz StartedAt: 2025-02-03 22:51:06 -0500 (Mon, 03 Feb 2025) EndedAt: 2025-02-03 22:56:11 -0500 (Mon, 03 Feb 2025) EllapsedTime: 305.4 seconds RetCode: 0 Status: OK CheckDir: GladiaTOX.Rcheck Warnings: 0