Package: GladiaTOX Version: 1.22.0 Command: chmod a+r GladiaTOX -R && F:\biocbuild\bbs-3.20-bioc\R\bin\R.exe CMD build --keep-empty-dirs --no-resave-data GladiaTOX StartedAt: 2025-02-10 19:23:46 -0500 (Mon, 10 Feb 2025) EndedAt: 2025-02-10 19:30:02 -0500 (Mon, 10 Feb 2025) EllapsedTime: 375.8 seconds RetCode: 0 Status: OK PackageFile: GladiaTOX_1.22.0.tar.gz PackageFileSize: 2.656 MiB