Package: GladiaTOX Version: 1.22.0 Command: F:\biocbuild\bbs-3.20-bioc\R\bin\R.exe CMD check --no-multiarch --install=check:GladiaTOX.install-out.txt --library=F:\biocbuild\bbs-3.20-bioc\R\library --no-vignettes --timings GladiaTOX_1.22.0.tar.gz StartedAt: 2025-02-04 02:22:20 -0500 (Tue, 04 Feb 2025) EndedAt: 2025-02-04 02:25:08 -0500 (Tue, 04 Feb 2025) EllapsedTime: 168.3 seconds RetCode: 0 Status: OK CheckDir: GladiaTOX.Rcheck Warnings: 0