Package: GladiaTOX Version: 1.22.0 Command: /home/biocbuild/R/R/bin/R CMD build --keep-empty-dirs --no-resave-data GladiaTOX StartedAt: 2025-02-03 23:57:55 -0000 (Mon, 03 Feb 2025) EndedAt: 2025-02-04 00:02:37 -0000 (Tue, 04 Feb 2025) EllapsedTime: 282.1 seconds RetCode: 0 Status: OK PackageFile: GladiaTOX_1.22.0.tar.gz PackageFileSize: 2.973 MiB