Package: GladiaTOX Version: 1.22.0 Command: /home/biocbuild/R/R/bin/R CMD INSTALL GladiaTOX StartedAt: 2025-02-03 20:35:02 -0000 (Mon, 03 Feb 2025) EndedAt: 2025-02-03 20:35:17 -0000 (Mon, 03 Feb 2025) EllapsedTime: 15.0 seconds RetCode: 0 Status: OK