Package: GloScope Version: 1.4.0 Command: /Library/Frameworks/R.framework/Resources/bin/R CMD build --keep-empty-dirs --no-resave-data GloScope StartedAt: 2025-02-04 00:34:25 -0500 (Tue, 04 Feb 2025) EndedAt: 2025-02-04 00:35:34 -0500 (Tue, 04 Feb 2025) EllapsedTime: 68.9 seconds RetCode: 0 Status: OK PackageFile: GloScope_1.4.0.tar.gz PackageFileSize: 2.634 MiB