Package: GloScope Version: 1.4.0 Command: /Library/Frameworks/R.framework/Resources/bin/R CMD INSTALL GloScope StartedAt: 2025-01-30 15:50:14 -0500 (Thu, 30 Jan 2025) EndedAt: 2025-01-30 15:50:42 -0500 (Thu, 30 Jan 2025) EllapsedTime: 28.6 seconds RetCode: 0 Status: OK