Package: GloScope Version: 1.4.0 Command: rm -rf GloScope.buildbin-libdir && mkdir GloScope.buildbin-libdir && /Users/biocbuild/BBS/utils/build-universal.sh GloScope_1.4.0.tar.gz /Library/Frameworks/R.framework/Resources/bin/R GloScope.buildbin-libdir StartedAt: 2025-02-04 13:04:40 -0500 (Tue, 04 Feb 2025) EndedAt: 2025-02-04 13:05:50 -0500 (Tue, 04 Feb 2025) EllapsedTime: 70.0 seconds RetCode: 0 Status: OK PackageFile: GloScope_1.4.0.tgz PackageFileSize: 2.65 MiB