Package: GloScope Version: 1.4.0 Command: /home/biocbuild/bbs-3.20-bioc/R/bin/R CMD build --keep-empty-dirs --no-resave-data --md5 GloScope StartedAt: 2025-02-03 17:37:30 -0500 (Mon, 03 Feb 2025) EndedAt: 2025-02-03 17:38:22 -0500 (Mon, 03 Feb 2025) EllapsedTime: 52.0 seconds RetCode: 0 Status: OK PackageFile: GloScope_1.4.0.tar.gz PackageFileSize: 2.64 MiB