Package: GloScope Version: 1.4.0 Command: /home/biocbuild/bbs-3.20-bioc/R/bin/R CMD check --install=check:GloScope.install-out.txt --library=/home/biocbuild/bbs-3.20-bioc/R/site-library --timings GloScope_1.4.0.tar.gz StartedAt: 2025-02-03 22:52:03 -0500 (Mon, 03 Feb 2025) EndedAt: 2025-02-03 23:01:05 -0500 (Mon, 03 Feb 2025) EllapsedTime: 542.6 seconds RetCode: 0 Status: OK CheckDir: GloScope.Rcheck Warnings: 0