Package: GloScope Version: 1.4.0 Command: rm -rf GloScope.buildbin-libdir && mkdir GloScope.buildbin-libdir && F:\biocbuild\bbs-3.20-bioc\R\bin\R.exe CMD INSTALL --build --library=GloScope.buildbin-libdir GloScope_1.4.0.tar.gz StartedAt: 2025-02-04 08:37:34 -0500 (Tue, 04 Feb 2025) EndedAt: 2025-02-04 08:38:24 -0500 (Tue, 04 Feb 2025) EllapsedTime: 50.3 seconds RetCode: 0 Status: OK PackageFile: GloScope_1.4.0.zip PackageFileSize: 2.566 MiB