Package: GloScope Version: 1.4.0 Command: /home/biocbuild/R/R/bin/R CMD build --keep-empty-dirs --no-resave-data GloScope StartedAt: 2025-02-03 23:59:32 -0000 (Mon, 03 Feb 2025) EndedAt: 2025-02-04 00:00:39 -0000 (Tue, 04 Feb 2025) EllapsedTime: 67.0 seconds RetCode: 0 Status: OK PackageFile: GloScope_1.4.0.tar.gz PackageFileSize: 2.59 MiB