Package: GloScope Version: 1.4.0 Command: /home/biocbuild/R/R/bin/R CMD INSTALL GloScope StartedAt: 2025-02-03 20:36:21 -0000 (Mon, 03 Feb 2025) EndedAt: 2025-02-03 20:36:51 -0000 (Mon, 03 Feb 2025) EllapsedTime: 29.8 seconds RetCode: 0 Status: OK