Package: GmicR Version: 1.20.0 Command: rm -rf GmicR.buildbin-libdir && mkdir GmicR.buildbin-libdir && /Users/biocbuild/BBS/utils/build-universal.sh GmicR_1.20.0.tar.gz /Library/Frameworks/R.framework/Resources/bin/R GmicR.buildbin-libdir StartedAt: 2025-02-04 13:04:45 -0500 (Tue, 04 Feb 2025) EndedAt: 2025-02-04 13:06:02 -0500 (Tue, 04 Feb 2025) EllapsedTime: 77.4 seconds RetCode: 0 Status: OK PackageFile: GmicR_1.20.0.tgz PackageFileSize: 3.552 MiB