Package: GmicR Version: 1.20.0 Command: /home/biocbuild/bbs-3.20-bioc/R/bin/R CMD check --install=check:GmicR.install-out.txt --library=/home/biocbuild/bbs-3.20-bioc/R/site-library --timings GmicR_1.20.0.tar.gz StartedAt: 2025-02-03 22:52:10 -0500 (Mon, 03 Feb 2025) EndedAt: 2025-02-03 23:15:56 -0500 (Mon, 03 Feb 2025) EllapsedTime: 1426.7 seconds RetCode: 0 Status: WARNINGS CheckDir: GmicR.Rcheck Warnings: 1